BEGIN:VCALENDAR
PRODID:-//Pixl8//Eventfolio//EN
VERSION:2.0
X-WR-TIMEZONE:Europe/London
CALSCALE:GREGORIAN
METHOD:PUBLISH
CLASS:PUBLIC
BEGIN:VTIMEZONE
TZID:Europe/London
LAST-MODIFIED:20260306T231828Z
TZURL:https://www.tzurl.org/zoneinfo-outlook/Europe/London
X-LIC-LOCATION:Europe/London
BEGIN:DAYLIGHT
TZNAME:BST
TZOFFSETFROM:+0000
TZOFFSETTO:+0100
DTSTART:19700329T010000
RRULE:FREQ=YEARLY;BYMONTH=3;BYDAY=-1SU
END:DAYLIGHT
BEGIN:STANDARD
TZNAME:GMT
TZOFFSETFROM:+0100
TZOFFSETTO:+0000
DTSTART:19701025T020000
RRULE:FREQ=YEARLY;BYMONTH=10;BYDAY=-1SU
END:STANDARD
END:VTIMEZONE
BEGIN:VEVENT
DTSTART;TZID=Europe/London:20250513T120000
DTEND;TZID=Europe/London:20250513T125500
DTSTAMP:20260420T060153Z
UID:{0C514F31-A941-4526-9421A03603A6F99E}
LOCATION:
SUMMARY:Setting up a Learning Management System for your association
DESCRIPTION:Avoid the common pitfalls of LMS implementation\n
 \n
 Event details: https://www.associationexecutives.org/events/setting-up-a-learning-management-system-for-your-association.html
PRIORITY:1
END:VEVENT
END:VCALENDAR