BEGIN:VCALENDAR
PRODID:-//Pixl8//Eventfolio//EN
VERSION:2.0
X-WR-TIMEZONE:Europe/London
CALSCALE:GREGORIAN
METHOD:PUBLISH
CLASS:PUBLIC
BEGIN:VTIMEZONE
TZID:Europe/London
LAST-MODIFIED:20260306T231828Z
TZURL:https://www.tzurl.org/zoneinfo-outlook/Europe/London
X-LIC-LOCATION:Europe/London
BEGIN:DAYLIGHT
TZNAME:BST
TZOFFSETFROM:+0000
TZOFFSETTO:+0100
DTSTART:19700329T010000
RRULE:FREQ=YEARLY;BYMONTH=3;BYDAY=-1SU
END:DAYLIGHT
BEGIN:STANDARD
TZNAME:GMT
TZOFFSETFROM:+0100
TZOFFSETTO:+0000
DTSTART:19701025T020000
RRULE:FREQ=YEARLY;BYMONTH=10;BYDAY=-1SU
END:STANDARD
END:VTIMEZONE
BEGIN:VEVENT
DTSTART;TZID=Europe/London:20260204T120000
DTEND;TZID=Europe/London:20260204T125500
DTSTAMP:20260422T010145Z
UID:{F137D03B-EF4E-4379-9DF7ED703560134A}
LOCATION:
SUMMARY:Fulfil your association’s potential: delivering transformation with AI
DESCRIPTION:How to get started with AI and transform operations and member experience - now!\n
 \n
 Event details: https://www.associationexecutives.org/events/fulfil-your-association-s-potential-delivering-transformation-with-ai.html
PRIORITY:1
END:VEVENT
END:VCALENDAR