BEGIN:VCALENDAR
PRODID:-//Pixl8//Eventfolio//EN
VERSION:2.0
X-WR-TIMEZONE:Europe/London
CALSCALE:GREGORIAN
METHOD:PUBLISH
CLASS:PUBLIC
BEGIN:VTIMEZONE
TZID:Europe/London
LAST-MODIFIED:20260306T231828Z
TZURL:https://www.tzurl.org/zoneinfo-outlook/Europe/London
X-LIC-LOCATION:Europe/London
BEGIN:DAYLIGHT
TZNAME:BST
TZOFFSETFROM:+0000
TZOFFSETTO:+0100
DTSTART:19700329T010000
RRULE:FREQ=YEARLY;BYMONTH=3;BYDAY=-1SU
END:DAYLIGHT
BEGIN:STANDARD
TZNAME:GMT
TZOFFSETFROM:+0100
TZOFFSETTO:+0000
DTSTART:19701025T020000
RRULE:FREQ=YEARLY;BYMONTH=10;BYDAY=-1SU
END:STANDARD
END:VTIMEZONE
BEGIN:VEVENT
DTSTART;TZID=Europe/London:20260423T093000
DTEND;TZID=Europe/London:20260423T123000
DTSTAMP:20260420T060015Z
UID:{28946200-DD86-41D5-B96DCD34226401D4}
LOCATION:Online | 180 Mins
SUMMARY:AI in Event marketing
DESCRIPTION:Critical AI to enhance your performance and deliver more delegates, exhibitors and sponsors\n
 \n
 Event details: https://www.associationexecutives.org/events/ai-in-event-marketing.html
PRIORITY:1
END:VEVENT
END:VCALENDAR